BEGIN:VCALENDAR
VERSION:2.0
PRODID:icalendar-ruby
CALSCALE:GREGORIAN
METHOD:PUBLISH
BEGIN:VEVENT
DTSTAMP:20260422T000918Z
UID:6-269796@piumc.org
DTSTART:20260802T140000Z
DTEND:20260802T150000Z
CLASS:PUBLIC
CREATED:20260403T140016
DESCRIPTION:Sunday Worship - You are invited to join us as we praise our Lo
 rd!
LAST-MODIFIED:20260403T140016
LOCATION:
SUMMARY:Sunday Worship
URL;VALUE=URI:https://www.piumc.org/events/sunday-worship/2026-08-02
END:VEVENT
END:VCALENDAR
